BEGIN:VCALENDAR
CALSCALE:GREGORIAN
VERSION:2.0
PRODID:-//Elixir ICalendar//Elixir ICalendar//EN
BEGIN:VEVENT
CATEGORIES:emplois,entreprenariats
DESCRIPTION:Au sein de notre CCPU\, vous est proposé que vous soyez demandeurs d'emploi ou acteurs économiques\, des aides et des accompagnements :\n\nPour les personnes en recherche d’emploi du territoire :  \n\n- un RDV par les établissements France Service  :  la poste à Saint Just en Chevalet et accueil de la Communauté de Communes à Saint Germain Laval.\n\n- une aide dans les démarches administratives notamment de recherche d’emploi. \n\n- Les offres d’emplois locales restent consultables sur le site internet suivant :  \n\n[Offres emplois CCPU](https://www.ccpu.fr/offres-d-emploi-_fr.html et/ou en suivant la page Facebook Ec[i - Urfé Aix Isable ou en version papier dans les locaux des 2 Communautés de Communes))\n\nPour les acteurs économiques du territoire\, vous bénficiez d’un interlocuteur unique\, Elodie PETITBOUT\, pour les services suivants :\n\n- APPUI AU RECRUTEMENT DES ENTREPRISES\n\n	- Employeurs publics - privés (entreprises et associations)\n\n	- Diffusion de l'offre sur nos supports (accueil des deux communautés de communes\, site internet et réseaux sociaux) \n\n- ACCOMPAGNEMENT DES ACTEURS ECONOMIQUES / CREATION- REPRISE D'ENTREPRISE :\n\n	-	Accueil des porteurs de projet locaux et extérieurs\n\n	-	Information sur les étapes clés de la construction d'un projet\n\n	- Propositions de locaux/portefeuille d'entreprises à reprendre\n\n	- Informations sur les aides\n\n	- Mise en réseau avec les partenaires locaux\n\n- ACCOMPAGNEMENT DES ACTEURS ECONOMIQUES EN ACTIVITE\n\n	- Information sur les dispositifs en lien avec la transition écologique - en lien avec EDEL 42\n\n	- Veille sur les différentes aides (en particulier programme LEADER/PAT/Aides Région)\n\n	- Informations régulières auprès des chefs d'entreprise\n\n	- Accompagnement individualisé\n\n	-Suivi des dossiers auprès des consulaires\n\n-	ACCOMPAGNEMENT DES ACTEURS ECONOMIQUES :  CESSION D'ENTREPRISES\n\n	- Pré-diagnostic de l’entreprise à reprendre\n\n	- Rédaction d’un dossier de cession\n\n	- Diffusion pour recherches de candidats (localement et à l’extérieur du territoire) - en lien 	notamment avec le Réseau ENVIE D'R\n\n \n\nPour tous renseignements\, vous pouvez contacter :\n\nElodie PETITBOUT  \n\nChargée de mission développement économique et attractivité  \n\nService Unifié Pays d’Urfé – Vals d’Aix et Isable  \n\nEconomie - emploi - formation- appui RH  \n\nAbsente les mercredis après-midis  \n\n40 Place du Cèdre 42430 Saint Just en Chevalet  \n\n06 60 96 24 55 - 04 77 65 17 64  \n\nelodie.petitbout@ccpu.fr  \n\n
DTEND;TZID=Europe/Paris:20240901T150000
DTSTAMP:20260421T085340Z
DTSTART;TZID=Europe/Paris:20240228T000000
GEO:45.913845;3.8456822
LOCATION:Place du Cèdre  42430 Saint-Just-en-Chevalet Auvergne-Rhône-Alpes France
ORGANIZER:CCPU
STATUS:CONFIRMED
SUMMARY:Nouveaux services : recherches d'emplois ou accompagnement des acteurs économiques
UID:730d22e9-2c93-4217-83da-abe9eee230e9
URL:https://mobilizon.cremeaux.org/events/730d22e9-2c93-4217-83da-abe9eee230e9
END:VEVENT
END:VCALENDAR
